BEGIN:VCALENDAR
VERSION:2.0
PRODID:-//Kolégium Antona Neuwirtha - ECPv6.15.20//NONSGML v1.0//EN
CALSCALE:GREGORIAN
METHOD:PUBLISH
X-ORIGINAL-URL:https://kolegium.org
X-WR-CALDESC:Udalosti pre Kolégium Antona Neuwirtha
REFRESH-INTERVAL;VALUE=DURATION:PT1H
X-Robots-Tag:noindex
X-PUBLISHED-TTL:PT1H
BEGIN:VTIMEZONE
TZID:Europe/Bratislava
BEGIN:DAYLIGHT
TZOFFSETFROM:+0100
TZOFFSETTO:+0200
TZNAME:CEST
DTSTART:20250330T010000
END:DAYLIGHT
BEGIN:STANDARD
TZOFFSETFROM:+0200
TZOFFSETTO:+0100
TZNAME:CET
DTSTART:20251026T010000
END:STANDARD
BEGIN:DAYLIGHT
TZOFFSETFROM:+0100
TZOFFSETTO:+0200
TZNAME:CEST
DTSTART:20260329T010000
END:DAYLIGHT
BEGIN:STANDARD
TZOFFSETFROM:+0200
TZOFFSETTO:+0100
TZNAME:CET
DTSTART:20261025T010000
END:STANDARD
BEGIN:DAYLIGHT
TZOFFSETFROM:+0100
TZOFFSETTO:+0200
TZNAME:CEST
DTSTART:20270328T010000
END:DAYLIGHT
BEGIN:STANDARD
TZOFFSETFROM:+0200
TZOFFSETTO:+0100
TZNAME:CET
DTSTART:20271031T010000
END:STANDARD
END:VTIMEZONE
BEGIN:VEVENT
DTSTART;TZID=Europe/Bratislava:20260706T080000
DTEND;TZID=Europe/Bratislava:20260710T170000
DTSTAMP:20260425T124256
CREATED:20260409T122913Z
LAST-MODIFIED:20260422T144745Z
UID:53264-1783324800-1783702800@kolegium.org
SUMMARY:Denné letné tábory v Kolégiu Antona Neuwirtha
DESCRIPTION:Zabudnite na stres z letných prázdnin a nekonečné hľadanie zmysluplného programu pre deti rôzneho veku. Kolégium Antona Neuwirtha tento rok opäť premieňa historický kaštieľ a jeho priľahlý park v Ivanke pri Dunaji na unikátne táborisko\, kde sa „svätý pokoj“ pre rodičov snúbi s nezabudnuteľným dobrodružstvom pre deti. \n\n\n\n\n\nProgram denného tábora je citlivo rozdelený do troch kategórií tak\, aby reflektoval potreby detí v každom štádiu ich vývoja: \n\n\n\nTáborík – Môj prvý  (4 – 6 rokov)\n\n\n\nPre tých najmenších sú pripravené prvé veľké objavy. Deti čaká svet tvorivosti\, pohybu a drobných výletov vláčikom či na farmu\, ktoré im jemne predstavia čaro kolektívu. \n\n\n\nPlná cena tábora je 153 eur. \n\n\n\nProgram prebieha od 8:15 do 14:45 \n\n\n\n\nPrihláška\n\n\n\n\n\n\n\n\nTábor – Záhada kaštieľa (7 – 10 rokov)\n\n\n\nŠkoláci sa stanú súčasťou detektívneho príbehu priamo v historických priestoroch kaštieľa. Vychádza z princípov bestselleru Slávky Kubíkovej Klub nerozbitných detí.  Naučia sa nielen odhaľovať indície\, ale aj budovať charakter a zdravý vzťah k technológiám – tie v tábore vymeníme za skutočný pohyb a priateľstvá. \n\n\n\nPlná cena tábora je 188 eur. \n\n\n\nProgram prebieha od 8:15 do 16:45  \n\n\n\n\nPrihláška\n\n\n\nViac informácií tu\n\n\n\n\n\n\n\n\nTáborUM (11 – 15 rokov)\n\n\n\nTínedžeri\, ktorí už „vyrástli“ z klasických hier\, zažijú UMelecko-dramatický týždeň pod vedením študenta divadelnej réžie VŠMU Olivera Jaroša. Je to priestor pre umenie\, slobodu a hľadanie vlastnej identity v bezpečnom prostredí. \n\n\n\nDenný tábor spája divadlo\, pohyb\, výtvarné umenie a hudbu do jedného tvorivého procesu. Nie je to séria oddelených krúžkov\, ale spoločné umelecké dobrodružstvo\, kde sa deti stávajú tvorcami. Program vedú študenti Vysokej školy múzických umení a pozvaní umelci\, ktorí deti budú sprevádzať procesom tvorby. \n\n\n\nPlná cena tábora je 188 eur. \n\n\n\nProgram prebieha od 8:15 do 16:45  \n\n\n\n\nPrihláška\n\n\n\n\n\n\n\n\n\n\n\n\nTáborisko: Kým deti objavujú\, rodičia vydýchnu\n\n\n\nHlavnou myšlienkou leta v Kolégiu je symbióza potrieb rodín z celého Slovenska. S deťmi bývajúcimi ďalej od Ivanky môžu prísť aj otcovia a spoločne “táboriť” – v našej ubytovni K10.  Kým deti budú cez deň v našich táboroch\, otcovia môžu pracovať  a po večeroch s partiou ostatných otcov a detí sa stretnúť pri táboráku alebo pri jazere.  \n\n\n\nRodičia\, ktorí nepotrebujú naše ubytovacie kapacity\, môžu využiť coworking v KANceláriách priamo v areáli. Home office v blízkosti sa hrajúcich ratolestí ponúka ideálny balans medzi prácou a rodinným časom. Ku coworkingu sa dá prihlásiť v prihlasovacom formulári dieťaťa na tábor. \n\n\n\nA čo mamy? Tie získajú tú najcennejšiu komoditu – čas pre seba a vedomie\, že ich deti sú v rukách skúsených animátorov\, ktorí dbajú na ich všestranný rozvoj. \n\n\n\nPlná cena je 220 eur. Zahŕňa obed 5x v týždni\, nocľah (izba s postelou a prístelkami)\, zázemie na prácu (pracovný stôl\, wifi)\, kuchyňu s kávovarom\, obývačku\, jedáleň\, zdieľané toalety a sprchy. \n\n\n\n\nPrihláška
URL:https://kolegium.org/event/denne-letne-tabory-v-kolegiu-antona-neuwirtha/
LOCATION:Kolégium Antona Neuwirtha\, kaštieľ Ivanka pi Dunaji\, Námestie padlých hrdinov 7\, Ivanka pri Dunaji\, 900 28\, Slovakia (Slovak Republic)
ATTACH;FMTTYPE=image/jpeg:https://kolegium.org/wp-content/uploads/2026/04/leto-v-kastieli-ivanka-pri-dunaji-denny-tabor-bratislava-letny-tabor-pre-deti-bratislava-1.jpg
END:VEVENT
END:VCALENDAR