BEGIN:VCALENDAR
VERSION:2.0
PRODID:-//Kolégium Antona Neuwirtha - ECPv6.15.20//NONSGML v1.0//EN
CALSCALE:GREGORIAN
METHOD:PUBLISH
X-WR-CALNAME:Kolégium Antona Neuwirtha
X-ORIGINAL-URL:https://kolegium.org
X-WR-CALDESC:Udalosti pre Kolégium Antona Neuwirtha
REFRESH-INTERVAL;VALUE=DURATION:PT1H
X-Robots-Tag:noindex
X-PUBLISHED-TTL:PT1H
BEGIN:VTIMEZONE
TZID:Europe/Bratislava
BEGIN:DAYLIGHT
TZOFFSETFROM:+0100
TZOFFSETTO:+0200
TZNAME:CEST
DTSTART:20250330T010000
END:DAYLIGHT
BEGIN:STANDARD
TZOFFSETFROM:+0200
TZOFFSETTO:+0100
TZNAME:CET
DTSTART:20251026T010000
END:STANDARD
BEGIN:DAYLIGHT
TZOFFSETFROM:+0100
TZOFFSETTO:+0200
TZNAME:CEST
DTSTART:20260329T010000
END:DAYLIGHT
BEGIN:STANDARD
TZOFFSETFROM:+0200
TZOFFSETTO:+0100
TZNAME:CET
DTSTART:20261025T010000
END:STANDARD
BEGIN:DAYLIGHT
TZOFFSETFROM:+0100
TZOFFSETTO:+0200
TZNAME:CEST
DTSTART:20270328T010000
END:DAYLIGHT
BEGIN:STANDARD
TZOFFSETFROM:+0200
TZOFFSETTO:+0100
TZNAME:CET
DTSTART:20271031T010000
END:STANDARD
END:VTIMEZONE
BEGIN:VEVENT
DTSTART;TZID=Europe/Bratislava:20260713T000000
DTEND;TZID=Europe/Bratislava:20260719T235959
DTSTAMP:20260425T124132
CREATED:20260318T180938Z
LAST-MODIFIED:20260318T185627Z
UID:52858-1783900800-1784505599@kolegium.org
SUMMARY:Letná univerzita 2026
DESCRIPTION:
URL:https://kolegium.org/event/letna-univerzita-2026/
ATTACH;FMTTYPE=image/png:https://kolegium.org/wp-content/uploads/2026/03/LUNI-26-web-a-paperform.png
END:VEVENT
END:VCALENDAR