BEGIN:VCALENDAR
VERSION:2.0
PRODID:-//Kolégium Antona Neuwirtha - ECPv6.15.20//NONSGML v1.0//EN
CALSCALE:GREGORIAN
METHOD:PUBLISH
X-WR-CALNAME:Kolégium Antona Neuwirtha
X-ORIGINAL-URL:https://kolegium.org
X-WR-CALDESC:Udalosti pre Kolégium Antona Neuwirtha
REFRESH-INTERVAL;VALUE=DURATION:PT1H
X-Robots-Tag:noindex
X-PUBLISHED-TTL:PT1H
BEGIN:VTIMEZONE
TZID:Europe/Bratislava
BEGIN:DAYLIGHT
TZOFFSETFROM:+0100
TZOFFSETTO:+0200
TZNAME:CEST
DTSTART:20250330T010000
END:DAYLIGHT
BEGIN:STANDARD
TZOFFSETFROM:+0200
TZOFFSETTO:+0100
TZNAME:CET
DTSTART:20251026T010000
END:STANDARD
BEGIN:DAYLIGHT
TZOFFSETFROM:+0100
TZOFFSETTO:+0200
TZNAME:CEST
DTSTART:20260329T010000
END:DAYLIGHT
BEGIN:STANDARD
TZOFFSETFROM:+0200
TZOFFSETTO:+0100
TZNAME:CET
DTSTART:20261025T010000
END:STANDARD
BEGIN:DAYLIGHT
TZOFFSETFROM:+0100
TZOFFSETTO:+0200
TZNAME:CEST
DTSTART:20270328T010000
END:DAYLIGHT
BEGIN:STANDARD
TZOFFSETFROM:+0200
TZOFFSETTO:+0100
TZNAME:CET
DTSTART:20271031T010000
END:STANDARD
END:VTIMEZONE
BEGIN:VEVENT
DTSTART;VALUE=DATE:20260111
DTEND;VALUE=DATE:20260112
DTSTAMP:20260425T141414
CREATED:20251211T115655Z
LAST-MODIFIED:20260107T075645Z
UID:50969-1768089600-1768175999@kolegium.org
SUMMARY:Prvý deadline: Prihlás sa do Univerzitného kolégia (začíname v septembri 2026)
DESCRIPTION:Chceš na sebe pracovať\, naučiť sa kriticky myslieť a nájsť inšpiratívnu komunitu? \nPrihlás sa do Univerzitného kolégia Antona Neuwirtha! Ponúkame ti kvalitné humanitné štúdium v štýle prestížnych univerzít (semináre\, tutoriály)\, život v kaštieli a možnosť získať štipendium až do výšky 75% nákladov. \nNepremeškaj prvú šancu! Termín na podanie prihlášky („prvý deadline“) je už 11. januára 2026! \nViac informácií a prihlasovací formulár nájdeš na našom webe Kolégia. Nechaj sa formovať akademicky\, komunitne aj duchovne. Tešíme sa na teba! ✨
URL:https://kolegium.org/event/prvy-deadline-prihlas-sa-do-univerzitneho-kolegia-zaciname-v-septembri-2026/
ATTACH;FMTTYPE=image/jpeg:https://kolegium.org/wp-content/uploads/2025/10/Kolegium-93.jpg
END:VEVENT
BEGIN:VEVENT
DTSTART;VALUE=DATE:20260113
DTEND;VALUE=DATE:20260114
DTSTAMP:20260425T141414
CREATED:20251222T110611Z
LAST-MODIFIED:20251222T115857Z
UID:51501-1768262400-1768348799@kolegium.org
SUMMARY:METODICKÝ ONLINE TRÉNING AKADÉMIE VEĽKÝCH DIEL (posledný deň na prihlásenie)
DESCRIPTION:Staňte sa súčasťou Akadémie veľkých diel. Pomôžte tak (nielen) mladým stať sa lepšou verziou samého seba prostredníctvom príbehov veľkých diel.
URL:https://kolegium.org/event/metodicky-online-trening-akademie-velkych-diel-posledny-den-na-prihlasenie/
LOCATION:ONLINE
ATTACH;FMTTYPE=image/png:https://kolegium.org/wp-content/uploads/2025/12/Snimka-obrazovky-2025-12-22-123707.png
END:VEVENT
BEGIN:VEVENT
DTSTART;VALUE=DATE:20260113
DTEND;VALUE=DATE:20260114
DTSTAMP:20260425T141414
CREATED:20251222T114130Z
LAST-MODIFIED:20251222T115958Z
UID:51515-1768262400-1768348799@kolegium.org
SUMMARY:METODICKÝ TRÉNING AKADÉMIE VEĽKÝCH DIEL MARTIN (posledný deň na prihlásenie)
DESCRIPTION:Staňte sa súčasťou Akadémie veľkých diel. Pomôžte tak (nielen) mladým stať sa lepšou verziou samého seba prostredníctvom príbehov veľkých diel.
URL:https://kolegium.org/event/metodicky-trening-akademie-velkych-diel-martin-posledny-den-na-prihlasenie/
LOCATION:Evanjelickej spojená škola\, M. R. Štefánika 19 036 01 Martin
ATTACH;FMTTYPE=image/png:https://kolegium.org/wp-content/uploads/2025/12/Snimka-obrazovky-2025-12-22-124025.png
END:VEVENT
BEGIN:VEVENT
DTSTART;TZID=Europe/Bratislava:20260114T133000
DTEND;TZID=Europe/Bratislava:20260114T170000
DTSTAMP:20260425T141414
CREATED:20251125T172514Z
LAST-MODIFIED:20251126T094135Z
UID:49914-1768397400-1768410000@kolegium.org
SUMMARY:Deň otvorených dverí na klasickom gymnáziu
DESCRIPTION:
URL:https://kolegium.org/event/den-otvorenych-dveri-na-klasickom-gymnaziu-jan-2026/
LOCATION:Spojená škola Zochova\, Zochova 6-8\, Bratislava\, Slovensko\, Slovakia (Slovak Republic)
ATTACH;FMTTYPE=image/jpeg:https://kolegium.org/wp-content/uploads/2025/11/gymnazium-DOD-25.11.2025.jpg
END:VEVENT
BEGIN:VEVENT
DTSTART;TZID=Europe/Bratislava:20260118T180000
DTEND;TZID=Europe/Bratislava:20260118T193000
DTSTAMP:20260425T141414
CREATED:20260117T074236Z
LAST-MODIFIED:20260117T074236Z
UID:51708-1768759200-1768764600@kolegium.org
SUMMARY:Polnočná omša | Divadlo absolventov Kolégia
DESCRIPTION:NOVÁ INSCENÁCIA divadla DAK (Divadlo absolventov kolégia) \nRodina Kubišovcov je obetavá rodina. Alebo skôr rodina\, ktorá obetuje. No jej členovia sa neobetujú jeden pre druhého\, obetujú skôr toho druhého pre seba. Hľadajú únik pred guľkou\, krčia sa v rohu svojho vnútra\, budujú bunkre\, boja sa umrieť pre ideály\, majú hrôzu z pravdy. \nKarvašova dráma je zasadená do obdobia Slovenského národného povstania\, do jedného malomesta\, do jedného domu\, k jedinému stolu. Spolu s Kubišovcami divák prežije tú najkrajšiu i najhoršiu noc v živote. Veď iba pravda robí život neznesiteľne ľahkým a iba pravda robí život vyhovujúco ťažkým. \nČeliac zoči-voči smrti i vlastnému svedomiu si postavy prechádzajú výraznou premenou. \nKoho alebo čo zradiť? Na čom skutočne záleží: na ideáloch alebo živote? Čo urobíme\, keď sa už nič nedá zachrániť? Pozývame vás k štedrovečernému stolu\, kde darčeky naozaj nosí Ježiško. A Brecker. \nObsadenie: \nValentín Kubiš: Michal Gačko\nVilma\, jeho žena: Katarína Adamčáková\nAngela\, ich dcéra: Anežka Sňahničanová / Magdaléna Borková\nPaľo\, jej manžel: Filip Janči\nMarián\, ich syn: Martin Hošala\nBrecker\, nemecký dôstojník: Dávid Magušin\nĎurko\, ich syn: Tobiáš Ľupták / Miroslav Kafka\nKatka: Sofia Michalčíková / Eva Noseková \nréžia\, scéna: Oliver Jaroš • dramaturgia: Katarína Adamčáková • kostýmy: Magdaléna Borková\, Katarína Adamčáková\nhudba: Marek Fóra \nvhodnosť: 15+ \nLÍSTKY NA 18. JANUÁRA 2026
URL:https://kolegium.org/event/polnocna-omsa-divadlo-absolventov-kolegia/
ATTACH;FMTTYPE=image/jpeg:https://kolegium.org/wp-content/uploads/2026/01/januar_polnocna_DAK.jpeg
END:VEVENT
BEGIN:VEVENT
DTSTART;TZID=Europe/Bratislava:20260119T000000
DTEND;TZID=Europe/Bratislava:20260206T235900
DTSTAMP:20260425T141414
CREATED:20251222T115016Z
LAST-MODIFIED:20260114T084610Z
UID:51520-1768780800-1770422340@kolegium.org
SUMMARY:METODICKÝ ONLINE TRÉNING AKADÉMIE VEĽKÝCH DIEL (Modul I a Modul II)
DESCRIPTION:Tréning bude iba online formou a bude mať dve časti: \n1. Online časť s domácou prípravou  – MODUL I  (cca 10 hod) \n– sprístupnené od 19.1.2026 v Online knižnici Akadémie veľkých diel. Vaše prístupové údaje Vám prídu vopred na Váš email. Po prihlásení sa do Online knižnice Akadémie budete mať k dispozícii všetky potrebné vzdelávacie materiály na tréning (videá\, texty\, a pod.) Je potrebné si ich pozrieť najneskôr pred Ukážkovým seminárom. \n2. Online časť s aktívnou účasťou – MODUL II (cca 10 hod) \n– dňa 2.2. 2026 od 16:00 do 18 hod – online Ukážkový seminár na platforme ZOOM \n– dňa 3.2. a 4.2. 2026 domáca príprava na diskusné semináre a práca s pridelenou metodikou k dielu \n– v dňoch 5.2 a 6.2. 2026 – od 15:00 do 18:00 každý deň dva online diskusné semináre k dielam na platforme ZOOM s reflexiou
URL:https://kolegium.org/event/metodicky-online-trening-akademie-velkych-diel/
LOCATION:ONLINE
ATTACH;FMTTYPE=image/jpeg:https://kolegium.org/wp-content/uploads/2025/12/542151562_1409117577704408_228252686368887581_n.jpg
END:VEVENT
BEGIN:VEVENT
DTSTART;TZID=Europe/Bratislava:20260129T180000
DTEND;TZID=Europe/Bratislava:20260129T193000
DTSTAMP:20260425T141414
CREATED:20260119T123250Z
LAST-MODIFIED:20260123T141117Z
UID:51757-1769709600-1769715000@kolegium.org
SUMMARY:Štefan Murárik: Skrolujú\, utekajú\, hľadajú. Kto sú dnešní stredoškoláci? (Online diskusia)
DESCRIPTION:Kedy? Dňa 29.1.2026 (štvrtok) od 18 hod.\n\n\nKde? Online (ZOOM). Link na podujatie Vám príde po registrácii v automatickom e-maile \n\n\nS kým? S PaedDr. Štefan Murárik a s Ing. Miroslava Duranková\, MA\n\n\n \n\n\nAká je generácia dnešných stredoškolákov? Je skutočne nesústredená\, krehká\, unavená a zahltená? Áno\, z veľkej časti je. No pod povrchom bijú srdcia mladých ľudí\, ktorí túžia po tom istom ako generácie pred nimi.\n\n\n \n\n\nTáto diskusia bude sondou do sveta dnešných dospievajúcich očami stredoškolského učiteľa. Budeme hovoriť o úskaliach dospievania v súčasnej dobe\, o novodobých obranných mechanizmoch a bublinách\, do ktorých sa pred svetom skrývajú. Ale tiež o hlade po učiteľoch\, ktorí nie sú len zdrojom informácií\, ale autentickými lídrami\, ktorí dokážu ukázať smer\, viesť na ceste dozrievania\, nastaviť zrozumiteľné hranice s láskou a férovosťou.\n\n\n \n\n\nCieľom stretnutia nie je len analyzovať problémy\, ale nájsť odpoveď na otázku: Ako byť pre túto generáciu učiteľom\, ktorého sa rozhodnú nasledovať? Ako nastaviť vzdelávacie prostredie\, aby v ňom mladí dokázali nanovo objaviť zmysel?\n\n\n \n\n\nOtázky\, ktorých sa v online diskusii dotkneme:\n\n\n\nSú dnešní mladí naozaj iní – alebo si to len myslíme?\nTá istá mladosť – iní mladí ľudia?\nJe každá generácia „horšia“ ako tá predchádzajúca?\nMýty o stredoškolákoch\n\n\n \n\n\nÚčasť je bezplatná\, potrebná registrácia. \n\n\n\nZáznam bude dostupný za 7 € na našom e-shope: kolegium.org/obchod\n\n\n\nViac záznamov z diskusií nájdete tu: akademiavelkychdiel.sk/zaznamy-prednasky
URL:https://kolegium.org/event/skroluju-utekaju-hladaju-kto-su-dnesni-stredoskolaci-online-diskusia/
ATTACH;FMTTYPE=image/jpeg:https://kolegium.org/wp-content/uploads/2026/01/Skroluju-utekaju-hladaju-kto-su-dnesni-stredoskolaci.jpg
END:VEVENT
BEGIN:VEVENT
DTSTART;VALUE=DATE:20260205
DTEND;VALUE=DATE:20260206
DTSTAMP:20260425T141414
CREATED:20260130T083642Z
LAST-MODIFIED:20260130T085512Z
UID:52004-1770249600-1770335999@kolegium.org
SUMMARY:Deň otvorených dverí 2026 v ZŠ Citadela
DESCRIPTION:Hľadáte základnú školu pre svoje dieťa? \nZáleží vám na budovaní charakteru Vášho dieťaťa? \n​Chcete pre jeho rozvoj zabezpečiť bezpečné a podnetné prostredie v kruhu učiteľov a priateľov s rovnakými hodnotami? \n\nPrijmite pozvanie a spoznajte Citadelu!\n\n\n\nAko prebieha vyučovanie v Citadele a v čom sa líši od štandardnej školy?\nČo je katolícke klasické vzdelávanie a prečo si myslíme\, že je tou správnou voľbou pre naše deti?\nPrečo je dôležitá komunita priateľov a rodín s rovnakými hodnotami\, ktorú spája okrem iného aj spoločná škola?\n\nOdpovede na tieto ale i ďalšie otázky sa dozviete na Dni otvorených dverí v Citadele. Ten sa uskutoční už 5. februára 2026 o 17:00 hod. v priestoroch ZŠ Citadela Bratislava a v rovnakom čase aj na ZŠ Citadela v Ivanke pri Dunaji. \nSvoju účasť je potrebné potvrdiť vyplnením registračného formuláru pre danú oblasť. \nRegistrácia na podujatie sa uzatvára 3. februára 2026.
URL:https://kolegium.org/event/den-otvorenych-dveri-2026-v-zs-citadela/
ATTACH;FMTTYPE=image/jpeg:https://kolegium.org/wp-content/uploads/2026/01/den-otvorenych-dveri-citadela.jpg
END:VEVENT
BEGIN:VEVENT
DTSTART;VALUE=DATE:20260220
DTEND;VALUE=DATE:20260221
DTSTAMP:20260425T141414
CREATED:20260212T140911Z
LAST-MODIFIED:20260305T150042Z
UID:52264-1771545600-1771631999@kolegium.org
SUMMARY:Gymnázium: Podávanie prihlášok iba do 20. februára 2026
DESCRIPTION:V školskom roku 2026/2027 otvoríme 1 prvácku triedu pre 20 z vás.\n\nAkých študentov hľadáme? \n\n 	zvedavých\, ktorí sa neuspokoja s jednoduchými odpoveďami\, chcú objavovať zmysel vecí a vidieť za horizont\,\n 	mysliteľov\, ktorí túžia rozvíjať svoje myslenie a schopnosť hľadať pravdu\,\n 	odvážnych diskutérov\, ktorí sa neboja vstúpiť do dialógu\, počúvať a kultivovane nesúhlasiť\,\n 	milovníkov príbehov\, obdivovateľov hrdinov\, nadšencov pre ideály\,\n 	študentov s vnútornou motiváciou\, ktorí sa nechcú učiť len pre známky\,\n 	veriacich\, ktorí túžia prehlbovať svoj vzťah s Bohom\,\n 	mladých\, čo vedia\, že priateľstvá a živá komunita nepadajú z neba\, ale že na nich treba pracovať každý deň\,\n 	obetavých\, ktorí už tušia\, že služba druhým je znakom pravého líderstva.\n\nAko sa prihlásiť na štúdium (krok za krokom)?\n\nDozviete sa na tejto stránke pre žiakov a pre rodičov.
URL:https://kolegium.org/event/gymnazium-podavanie-prihlasok-iba-do-20-februara-2026/
ATTACH;FMTTYPE=image/jpeg:https://kolegium.org/wp-content/uploads/2025/10/Kolegium-141.jpg
END:VEVENT
BEGIN:VEVENT
DTSTART;TZID=Europe/Bratislava:20260301T000000
DTEND;TZID=Europe/Bratislava:20260301T235900
DTSTAMP:20260425T141414
CREATED:20260113T141329Z
LAST-MODIFIED:20260306T093557Z
UID:51668-1772323200-1772409540@kolegium.org
SUMMARY:Druhý deadline na prihlásenie do Univerzitného kolégia
DESCRIPTION:Vyplň prihlasovací formulár\, pošli motivačný list a životopis. V druhom kole môžeš získať poukážku do e-shopu Kolégia v hodnote 50 eur na knihy alebo online vzdelávacie kurzy.\n\n \n\nHĽADÁME NOVÉ TVÁRE DO KOLÉGIA!\n\nNie je ti ľahostajné\, kam smeruje naša spoločnosť? Chceš sa podieľať na projektoch\, ktoré majú zmysel? Baví ťa diskutovať o veľkých otázkach života a hľadať pravdu?\n\nUniverzitné kolégium prijíma nové prihlášky!\n\nHľadáme študentov\, ktorí:\n\n 	Nechcú len sedieť bokom\, ale aktívne meniť veci okolo seba\n 	Majú odvahu vystúpiť z davu a žiť podľa svojich hodnôt\n 	Chcú sa vzdelávať\, premýšľať a viesť zmysluplné dialógy\n 	Cítia\, že majú čo ponúknúť Slovensku a Európe a chcú to dokázať\n\nV Kolégiu nájdeš nielen bývanie a vzdelanie\, ale komunitu\, ktoré ťa posunie ďalej – intelektuálne\, duchovne aj ľudsky.\n\nStaň sa súčasťou niečoho väčšieho. Príď medzi nás. \n\nVšetko o výberovom procese nájdeš tu.
URL:https://kolegium.org/event/druhy-deadline-na-prihlasenie-do-univerzitneho-kolegia/
LOCATION:ONLINE
ATTACH;FMTTYPE=image/png:https://kolegium.org/wp-content/uploads/2026/01/univerzitne-kolegium-prihlasovanie-2026.png
END:VEVENT
BEGIN:VEVENT
DTSTART;VALUE=DATE:20260301
DTEND;VALUE=DATE:20260302
DTSTAMP:20260425T141414
CREATED:20260212T140416Z
LAST-MODIFIED:20260212T140416Z
UID:52263-1772323200-1772409599@kolegium.org
SUMMARY:Registrácia záujmu o štúdium na ZŠ Citadela
DESCRIPTION:Registrácia záujmu o štúdium na ZŠ Citadela je pre prvákov otvorená pre školské roky 2026/2027\, 2027/2028 a 2028/2029. \nMožnosť prestupu v práve prebiehajúcom školskom roku je k dispozícii v triedach v Bratislave aj Ivanke pri Dunaji. \nPodrobnosti nájdete tu.
URL:https://kolegium.org/event/registracia-zaujmu-o-studium-na-zs-citadela/
ATTACH;FMTTYPE=image/jpeg:https://kolegium.org/wp-content/uploads/2022/01/CITADELADOD.jpg
END:VEVENT
BEGIN:VEVENT
DTSTART;TZID=Europe/Bratislava:20260318T180000
DTEND;TZID=Europe/Bratislava:20260318T193000
DTSTAMP:20260425T141414
CREATED:20260311T164235Z
LAST-MODIFIED:20260311T171101Z
UID:52697-1773856800-1773862200@kolegium.org
SUMMARY:ONLINE DISKUSIA: Ako pracovať so žiakmi s poruchami učenia\, ADHD a poruchami autistického spektra?
DESCRIPTION:Ako pracovať so žiakmi s poruchami učenia\, ADHD a poruchami autistického spektra? Zúčastnite sa bezplatnej online diskusie a a automaticky môžete vyhrať odborný online tréning v hodnote 250 €.  \n\n\n\nPremeňte frustráciu na inšpiráciu a objavte v triede potenciál\, o ktorom ste doteraz netušili. \n\n\n\n Čo získate účasťou na diskusii: \n\n\n\nPochopenie ako kľúč: \n\n\n\nZistíte\, ako správne vedomosti o potrebách žiakov uľahčujú vyučovanie pre celú triedu. \n\n\n\nZmena perspektívy: \n\n\n\nNájdeme cesty\, ako urobiť z týchto žiakov obohatenie vašich hodín. \n\n\n\nPraktické riešenia: \n\n\n\nPomenujeme konkrétne prejavy špeciálnych potrieb a predstavíme overené metódy z praxe. \n\n\n\nUniverzálne zásady: \n\n\n\nOdnesiete si tipy využiteľné v škole aj v domácom prostredí. \n\n\n\n Hostia:Mgr. Anežka Brodňanská – špeciálna pedagogička a zástupkyňa riaditeľa v ZŠ Citadela. Ing. Miroslava Duranková\, MA – riaditeľka Akadémie veľkých diel (moderátorka). \n\n\n\n KEDY: Streda 18. marca 2026 | 18:00 – 19:30 \n\n\n\n KDE: Online cez ZOOM \n\n\n\n CENA: Bezplatne (súťaž o tréning pre registrovaných účastníkov) \n\n\n\n REGISTRÁCIA: https://exgnvhpw.paperform.co \n\n\n\n Podrobné podmienky a štatút súťaže: https://www.akademiavelkychdiel.sk/statut-sutaze \n\n\n\nPodujatie organizuje Akadémia veľkých diel v spolupráci so ZŠ Citadela a Nadáciou Volkswagen.
URL:https://kolegium.org/event/52697/
ATTACH;FMTTYPE=image/png:https://kolegium.org/wp-content/uploads/2026/03/Online-diskusia-Vychova-charakteru-ludskou-recou-–-kopia-–-kopia.png
END:VEVENT
BEGIN:VEVENT
DTSTART;TZID=Europe/Bratislava:20260429T160000
DTEND;TZID=Europe/Bratislava:20260429T190000
DTSTAMP:20260425T141414
CREATED:20260420T141500Z
LAST-MODIFIED:20260420T135712Z
UID:51675-1777478400-1777489200@kolegium.org
SUMMARY:ONLINE Deň otvorených dverí v Univerzitnom kolégiu
DESCRIPTION:Rozhoduješ sa\, či je Univezitné kolégium pre teba? Príď na ONLINE Deň otvorených dverí\,ktorý sa uskutoční 29. apríla 2026 v priestoroch kaštieľa v Ivanke pri Dunaji. Dozvieš sa\, čo ťa v Kolégiu čaká. \nZačni sa pýtať\, objav čaro klasického vzdelávania a zisti ako môžeš rozvíjať svoj potenciál! \n  \n\n\n\nČo ťa na našom DOD čaká?\n\nPosedenie s riaditeľom Kolégia Branislavom Kuljovským\nSeminár s akademikom\nPrehliadka kaštieľa a predstavenie pilierov\nOtázky a odpovede so študentmi Kolégia\n\n \nPrihlasovanie
URL:https://kolegium.org/event/den-otvorenych-dveri-v-univerzitnom-kolegiu/
ATTACH;FMTTYPE=image/png:https://kolegium.org/wp-content/uploads/2026/01/den-otvorenych-dveri-2.png
END:VEVENT
BEGIN:VEVENT
DTSTART;TZID=Europe/Bratislava:20260330T140000
DTEND;TZID=Europe/Bratislava:20260330T235959
DTSTAMP:20260425T141414
CREATED:20260306T122031Z
LAST-MODIFIED:20260306T122649Z
UID:52632-1774879200-1774915199@kolegium.org
SUMMARY:Zážitkový seminár: Čo je dôležité sa učiť?
DESCRIPTION:Zážitkový seminár na Orave na tému Čo je dôležité sa učiť organizuje Akadémia veľkých diel v spolupráci s Regionálnym centrom podpory učiteľov Orava. Srdečne pozývame!
URL:https://kolegium.org/event/zazitkovy-seminar-co-je-dolezite-sa-ucit/
ATTACH;FMTTYPE=image/jpeg:https://kolegium.org/wp-content/uploads/2026/03/zazitkovy-seminar-orava.jpg
END:VEVENT
BEGIN:VEVENT
DTSTART;TZID=Europe/Bratislava:20260415T000000
DTEND;TZID=Europe/Bratislava:20260415T235959
DTSTAMP:20260425T141414
CREATED:20260330T142216Z
LAST-MODIFIED:20260331T122646Z
UID:53062-1776211200-1776297599@kolegium.org
SUMMARY:Kurzy jarného trimestra Kolégia ONLINE
DESCRIPTION:Už vás nebaví len pasívne prijímanie informácií? Chcete sa naučiť HLBŠIE MYSLIEŤ a formovať si vlastný názor? A to všetko bez AI? \n\n\n\nJarný trimester Kolégia Online je tu a prebúdza živú diskusiu! \n\n\n\nVýučba trimestra začína v týždni od 27. apríla 2026.  \n\n\n\nČaká vás 6 kurzov\, ktoré premenia váš pohľad na svet aj seba samého. Okrem teologických tém Vás čakajú aj kurzy z umenia\, výchovy a zdravia. \n\n\n\nPrihlasovanie trvá do 15. apríla 2026! (S výnimkou kurzu Filiálna terapia. Prihláste sa do 8. apríla) \n\n\n\nVyberte si svoj kurz! Celú ponuku nájdete na našom e-shope. \n\n\n\n\n\n\n\n\n\n\n\n\n\nČo je Kolégium ONLINE?\n\n\n\nKolégium ONLINE je e-learningová platforma\, ktorá poskytuje živé diskusné semináre v kurzoch na rôzne témy dostupné všetkým\, ktorí túžia po kvalitnom vzdelávaní. \n\n\n\nV Kolégiu Antona Neuwirtha už viac ako 15 rokov vzdelávame mladých ľudí formou čítania textov\, ktorých autori sú veľkí myslitelia našej civilizácie. Po individuálnom štúdiu a samostatnej reflexii o diele diskutujeme na seminároch\, kde prebieha spoločné skúmanie tém a hľadanie odpovedí na otázky\, ktoré ponúka autor. \n\n\n\nLektor alebo učiteľ neponúka predpísané odpovede\, ale spolu so študentmi skúma idey a témy\, ktoré dielo otvára a podnecuje k štrukturovanej a logickej argumentácii. \n\n\n\nTento spôsob vzdelávania formuje zároveň myseľ aj charakter človeka a pozýva ho k uvažovaniu o nadčasových otázkach\, ktoré nekončí seminárom\, ale informuje aj jeho ďalšie spoznávanie sveta a seba samého.
URL:https://kolegium.org/event/kurzy-jarneho-trimestra-kolegia-online/
ATTACH;FMTTYPE=image/png:https://kolegium.org/wp-content/uploads/2026/03/ponuka-kurzov-na-online.kolegium.org-2.png
END:VEVENT
BEGIN:VEVENT
DTSTART;TZID=Europe/Bratislava:20260415T090000
DTEND;TZID=Europe/Bratislava:20260415T173000
DTSTAMP:20260425T141414
CREATED:20260223T081831Z
LAST-MODIFIED:20260330T134517Z
UID:52405-1776243600-1776274200@kolegium.org
SUMMARY:Konferencia: Od úžasu k múdrosti 2026
DESCRIPTION:Konferencia Od úžasu k múdrosti je odborné stretnutie venované katolíckemu klasickému vzdelávaniu – vzdelávaciemu prístupu\, ktorý sa usiluje o celostný rozvoj človeka a integruje vieru\, rozum a kultúru.\n\nPodujatie je určené predovšetkým biskupom\, zriaďovateľom\, riaditeľom a lídrom katolíckeho školstva\, ktorí nesú zodpovednosť za jeho identitu\, smerovanie a dlhodobú víziu. Konferencia vznikla z presvedčenia\, že otázka vzdelávania patrí dnes medzi témy\, ktoré si katolícke školstvo nemôže dovoliť odkladať.\n\nKatolícke klasické vzdelávanie zažíva v posledných rokoch výrazný rozkvet najmä v Spojených štátoch amerických a postupne sa rozvíja aj v Európe. Na Slovensku však zatiaľ chýba hlbšia odborná diskusia o jeho možnostiach a hraniciach. Táto konferencia chce vytvoriť priestor na spoločné rozlišovanie\, inšpiráciu a zdieľanie skúseností.\n\nOrganizátorom konferencie je Kolégium Antona Neuwirtha\, ktoré sa klasickému vzdelávaniu venuje už 17 rokov\, a posledných päť rokov aj prostredníctvom Základnej školy Citadela\, klasickej katolíckej základnej školy.\n\nPre účasť na konferencii je potrebné sa registrovať vopred.\n\nRegistračný formulár a ďalšie informácie nájdete na webstránke konferencie.
URL:https://kolegium.org/event/od-uzasu-k-mudrosti/
LOCATION:Námestie Padlých hrdinov 7\, Námestie Padlých hrdinov 7\, Ivanka pri Dunaji\, Slovensko\, 90028\, Slovakia (Slovak Republic)
ATTACH;FMTTYPE=image/jpeg:https://kolegium.org/wp-content/uploads/2025/09/Martin-Luteran.jpg
END:VEVENT
BEGIN:VEVENT
DTSTART;TZID=Europe/Bratislava:20260503T000000
DTEND;TZID=Europe/Bratislava:20260503T235959
DTSTAMP:20260425T141414
CREATED:20260306T104520Z
LAST-MODIFIED:20260420T140426Z
UID:52623-1777766400-1777852799@kolegium.org
SUMMARY:Posledný deadline na prihlásenie sa do 18. ročníka Univerzitného kolégia
DESCRIPTION:Vyplň prihlasovací formulár\, pošli motivačný list a životopis. Zmeň svoj život jedným klikom! Prijímacie pohovory ťa budú čakať v druhej polovici mája 2026. \n\n\n\nHĽADÁME NOVÉ TVÁRE DO KOLÉGIA \n\n\n\nNie je ti ľahostajné\, kam smeruje naša spoločnosť? Chceš sa podieľať na projektoch\, ktoré majú zmysel? Baví ťa diskutovať o veľkých otázkach života a hľadať pravdu? Zmeň svoj život jedným klikom! \n\n\n\nUniverzitné kolégium prijíma posledné prihlášky \n\n\n\nHľadáme študentov\, ktorí: \n\n\n\n\nNechcú len sedieť bokom\, ale aktívne meniť veci okolo seba\n\n\n\nMajú odvahu vystúpiť z davu a žiť podľa svojich hodnôt\n\n\n\nChcú sa vzdelávať\, premýšľať a viesť zmysluplné dialógy\n\n\n\nCítia\, že majú čo ponúknúť Slovensku a Európe a chcú to dokázať\n\n\n\n\nV Kolégiu nájdeš nielen bývanie a vzdelanie\, ale komunitu\, ktoré ťa posunie ďalej – intelektuálne\, duchovne aj ľudsky. \n\n\n\nStaň sa súčasťou niečoho väčšieho. Príď medzi nás. \n\n\n\nVšetko o výberovom procese nájdeš tu. Sleduj najaktuálnejšie diania na našom Instagrame!
URL:https://kolegium.org/event/deadline-na-prihlasenie-do-kan18/
ATTACH;FMTTYPE=image/png:https://kolegium.org/wp-content/uploads/2026/01/univerzitne-kolegium-prihlasovanie.png
END:VEVENT
BEGIN:VEVENT
DTSTART;TZID=Europe/Bratislava:20260620T140000
DTEND;TZID=Europe/Bratislava:20260620T200000
DTSTAMP:20260425T141414
CREATED:20260330T124821Z
LAST-MODIFIED:20260424T094259Z
UID:53046-1781964000-1781985600@kolegium.org
SUMMARY:Kolégium Garden Party 2026
DESCRIPTION:Veľká záhradná oslava v dobrej spoločnosti dobrých ľudí \n\n\n\nVstupenky nájdete na Donio.sk.
URL:https://kolegium.org/event/kolegium-garden-party-2026/
ATTACH;FMTTYPE=image/jpeg:https://kolegium.org/wp-content/uploads/2026/03/kolegium-garden-party-2025-scaled.jpg
END:VEVENT
BEGIN:VEVENT
DTSTART;TZID=Europe/Bratislava:20260706T080000
DTEND;TZID=Europe/Bratislava:20260710T170000
DTSTAMP:20260425T141414
CREATED:20260409T122913Z
LAST-MODIFIED:20260422T144745Z
UID:53264-1783324800-1783702800@kolegium.org
SUMMARY:Denné letné tábory v Kolégiu Antona Neuwirtha
DESCRIPTION:Zabudnite na stres z letných prázdnin a nekonečné hľadanie zmysluplného programu pre deti rôzneho veku. Kolégium Antona Neuwirtha tento rok opäť premieňa historický kaštieľ a jeho priľahlý park v Ivanke pri Dunaji na unikátne táborisko\, kde sa „svätý pokoj“ pre rodičov snúbi s nezabudnuteľným dobrodružstvom pre deti. \n\n\n\n\n\nProgram denného tábora je citlivo rozdelený do troch kategórií tak\, aby reflektoval potreby detí v každom štádiu ich vývoja: \n\n\n\nTáborík – Môj prvý  (4 – 6 rokov)\n\n\n\nPre tých najmenších sú pripravené prvé veľké objavy. Deti čaká svet tvorivosti\, pohybu a drobných výletov vláčikom či na farmu\, ktoré im jemne predstavia čaro kolektívu. \n\n\n\nPlná cena tábora je 153 eur. \n\n\n\nProgram prebieha od 8:15 do 14:45 \n\n\n\n\nPrihláška\n\n\n\n\n\n\n\n\nTábor – Záhada kaštieľa (7 – 10 rokov)\n\n\n\nŠkoláci sa stanú súčasťou detektívneho príbehu priamo v historických priestoroch kaštieľa. Vychádza z princípov bestselleru Slávky Kubíkovej Klub nerozbitných detí.  Naučia sa nielen odhaľovať indície\, ale aj budovať charakter a zdravý vzťah k technológiám – tie v tábore vymeníme za skutočný pohyb a priateľstvá. \n\n\n\nPlná cena tábora je 188 eur. \n\n\n\nProgram prebieha od 8:15 do 16:45  \n\n\n\n\nPrihláška\n\n\n\nViac informácií tu\n\n\n\n\n\n\n\n\nTáborUM (11 – 15 rokov)\n\n\n\nTínedžeri\, ktorí už „vyrástli“ z klasických hier\, zažijú UMelecko-dramatický týždeň pod vedením študenta divadelnej réžie VŠMU Olivera Jaroša. Je to priestor pre umenie\, slobodu a hľadanie vlastnej identity v bezpečnom prostredí. \n\n\n\nDenný tábor spája divadlo\, pohyb\, výtvarné umenie a hudbu do jedného tvorivého procesu. Nie je to séria oddelených krúžkov\, ale spoločné umelecké dobrodružstvo\, kde sa deti stávajú tvorcami. Program vedú študenti Vysokej školy múzických umení a pozvaní umelci\, ktorí deti budú sprevádzať procesom tvorby. \n\n\n\nPlná cena tábora je 188 eur. \n\n\n\nProgram prebieha od 8:15 do 16:45  \n\n\n\n\nPrihláška\n\n\n\n\n\n\n\n\n\n\n\n\nTáborisko: Kým deti objavujú\, rodičia vydýchnu\n\n\n\nHlavnou myšlienkou leta v Kolégiu je symbióza potrieb rodín z celého Slovenska. S deťmi bývajúcimi ďalej od Ivanky môžu prísť aj otcovia a spoločne “táboriť” – v našej ubytovni K10.  Kým deti budú cez deň v našich táboroch\, otcovia môžu pracovať  a po večeroch s partiou ostatných otcov a detí sa stretnúť pri táboráku alebo pri jazere.  \n\n\n\nRodičia\, ktorí nepotrebujú naše ubytovacie kapacity\, môžu využiť coworking v KANceláriách priamo v areáli. Home office v blízkosti sa hrajúcich ratolestí ponúka ideálny balans medzi prácou a rodinným časom. Ku coworkingu sa dá prihlásiť v prihlasovacom formulári dieťaťa na tábor. \n\n\n\nA čo mamy? Tie získajú tú najcennejšiu komoditu – čas pre seba a vedomie\, že ich deti sú v rukách skúsených animátorov\, ktorí dbajú na ich všestranný rozvoj. \n\n\n\nPlná cena je 220 eur. Zahŕňa obed 5x v týždni\, nocľah (izba s postelou a prístelkami)\, zázemie na prácu (pracovný stôl\, wifi)\, kuchyňu s kávovarom\, obývačku\, jedáleň\, zdieľané toalety a sprchy. \n\n\n\n\nPrihláška
URL:https://kolegium.org/event/denne-letne-tabory-v-kolegiu-antona-neuwirtha/
LOCATION:Kolégium Antona Neuwirtha\, kaštieľ Ivanka pi Dunaji\, Námestie padlých hrdinov 7\, Ivanka pri Dunaji\, 900 28\, Slovakia (Slovak Republic)
ATTACH;FMTTYPE=image/jpeg:https://kolegium.org/wp-content/uploads/2026/04/leto-v-kastieli-ivanka-pri-dunaji-denny-tabor-bratislava-letny-tabor-pre-deti-bratislava-1.jpg
END:VEVENT
BEGIN:VEVENT
DTSTART;TZID=Europe/Bratislava:20260713T000000
DTEND;TZID=Europe/Bratislava:20260719T235959
DTSTAMP:20260425T141414
CREATED:20260318T180938Z
LAST-MODIFIED:20260318T185627Z
UID:52858-1783900800-1784505599@kolegium.org
SUMMARY:Letná univerzita 2026
DESCRIPTION:
URL:https://kolegium.org/event/letna-univerzita-2026/
ATTACH;FMTTYPE=image/png:https://kolegium.org/wp-content/uploads/2026/03/LUNI-26-web-a-paperform.png
END:VEVENT
BEGIN:VEVENT
DTSTART;VALUE=DATE:20260730
DTEND;VALUE=DATE:20260809
DTSTAMP:20260425T141414
CREATED:20260213T142622Z
LAST-MODIFIED:20260213T143047Z
UID:52285-1785369600-1786233599@kolegium.org
SUMMARY:Free Society Seminar 2026
DESCRIPTION:Summer seminar on the fundamental principles of democracy and current challenges to the free society. \nJoin distinguished American and Slovak professors and students from July 30st to August 8th 2026 in Slovakia for a stimulating\, intellectual and cultural experience. \nFor more information\, click here. \n 
URL:https://kolegium.org/event/free-society-seminar-summer-2026/
ATTACH;FMTTYPE=image/jpeg:https://kolegium.org/wp-content/uploads/2026/02/free-society-seminar-2026-scaled.jpg
END:VEVENT
END:VCALENDAR